BEGIN:VCALENDAR
VERSION:2.0
PRODID:-//OmniMagnetCalendar//EN
BEGIN:VEVENT
DTSTAMP:20190625T195740Z
STATUS:CONFIRMED
UID:globalwe.sigs.harvard.edu300
DTSTART:20250927T140000Z
DTEND:20250927T150000Z
LOCATION:Virtual,
SUMMARY:General Members Meeting & Social 2025
DESCRIPTION:Please join us for our Annual General Members Meeting. During the meeting, Board members will update you on GlobalWE’s achievements this past year and upcoming plans for the next year. 
BEGIN:VALARM
TRIGGER:-PT15M
ACTION:DISPLAY
END:VALARM
TRANSP:OPAQUE
END:VEVENT
END:VCALENDAR
