BEGIN:VCALENDAR
VERSION:2.0
PRODID:-//OmniMagnetCalendar//EN
BEGIN:VEVENT
DTSTAMP:20190625T195740Z
STATUS:CONFIRMED
UID:globalwe.sigs.harvard.edu299
DTSTART:20250628T130000Z
DTEND:20250628T143000Z
LOCATION:Virtual,
SUMMARY:Empowering Girls Through Reproductive Health Education: Global Insights and Interventions
DESCRIPTION:Empowering Girls Through Reproductive Health Education: Global Insights and Interventions
BEGIN:VALARM
TRIGGER:-PT15M
ACTION:DISPLAY
END:VALARM
TRANSP:OPAQUE
END:VEVENT
END:VCALENDAR
