BEGIN:VCALENDAR
VERSION:2.0
PRODID:-//OmniMagnetCalendar//EN
BEGIN:VEVENT
DTSTAMP:20190625T195740Z
STATUS:CONFIRMED
UID:globalwe.sigs.harvard.edu298
DTSTART:20250426T160000Z
DTEND:20250426T170000Z
LOCATION:Virtual,
SUMMARY:Freedom from Violence: Confronting Sex Trafficking Globally
DESCRIPTION:Freedom from Violence: Confronting Sex Trafficking Globally
BEGIN:VALARM
TRIGGER:-PT15M
ACTION:DISPLAY
END:VALARM
TRANSP:OPAQUE
END:VEVENT
END:VCALENDAR
